BEGIN:VCALENDAR
VERSION:2.0
PRODID:-//St John’s School - ECPv6.15.18//NONSGML v1.0//EN
CALSCALE:GREGORIAN
METHOD:PUBLISH
X-WR-CALNAME:St John’s School
X-ORIGINAL-URL:https://stjohns.wa.edu.au
X-WR-CALDESC:Events for St John’s School
REFRESH-INTERVAL;VALUE=DURATION:PT1H
X-Robots-Tag:noindex
X-PUBLISHED-TTL:PT1H
BEGIN:VTIMEZONE
TZID:Australia/Perth
BEGIN:STANDARD
TZOFFSETFROM:+0800
TZOFFSETTO:+0800
TZNAME:AWST
DTSTART:20230101T000000
END:STANDARD
END:VTIMEZONE
BEGIN:VEVENT
DTSTART;VALUE=DATE:20240422
DTEND;VALUE=DATE:20240423
DTSTAMP:20260420T031630
CREATED:20240508T035943Z
LAST-MODIFIED:20240508T035943Z
UID:831-1713744000-1713830399@stjohns.wa.edu.au
SUMMARY:St John Ambulance Incursion: K\, PP Y1&6
DESCRIPTION:
URL:https://stjohns.wa.edu.au/event/st-john-ambulance-incursion-k-pp-y16/
CATEGORIES:School Events
END:VEVENT
BEGIN:VEVENT
DTSTART;TZID=Australia/Perth:20240417T090000
DTEND;TZID=Australia/Perth:20240417T100000
DTSTAMP:20260420T031630
CREATED:20240508T035924Z
LAST-MODIFIED:20240508T035924Z
UID:829-1713344400-1713348000@stjohns.wa.edu.au
SUMMARY:Beginning of Term Mass 9.00am Years 1-6
DESCRIPTION:
URL:https://stjohns.wa.edu.au/event/beginning-of-term-mass-9-00am-years-1-6/
CATEGORIES:School Events
END:VEVENT
BEGIN:VEVENT
DTSTART;VALUE=DATE:20240416
DTEND;VALUE=DATE:20240417
DTSTAMP:20260420T031630
CREATED:20240508T035847Z
LAST-MODIFIED:20240508T035847Z
UID:827-1713225600-1713311999@stjohns.wa.edu.au
SUMMARY:Interschool Swimming HBF
DESCRIPTION:
URL:https://stjohns.wa.edu.au/event/interschool-swimming-hbf/
CATEGORIES:School Events
END:VEVENT
BEGIN:VEVENT
DTSTART;VALUE=DATE:20240330
DTEND;VALUE=DATE:20240401
DTSTAMP:20260420T031630
CREATED:20240201T071137Z
LAST-MODIFIED:20240201T071137Z
UID:762-1711756800-1711929599@stjohns.wa.edu.au
SUMMARY:Easter
DESCRIPTION:
URL:https://stjohns.wa.edu.au/event/easter/
CATEGORIES:Public Holidays
END:VEVENT
BEGIN:VEVENT
DTSTART;VALUE=DATE:20240329
DTEND;VALUE=DATE:20240330
DTSTAMP:20260420T031630
CREATED:20240201T071112Z
LAST-MODIFIED:20240201T071112Z
UID:760-1711670400-1711756799@stjohns.wa.edu.au
SUMMARY:Good Friday
DESCRIPTION:
URL:https://stjohns.wa.edu.au/event/good-friday/
CATEGORIES:Public Holidays
END:VEVENT
BEGIN:VEVENT
DTSTART;VALUE=DATE:20240328
DTEND;VALUE=DATE:20240329
DTSTAMP:20260420T031630
CREATED:20240201T071050Z
LAST-MODIFIED:20240201T071050Z
UID:758-1711584000-1711670399@stjohns.wa.edu.au
SUMMARY:Holy Thursday / Last Day of Term 1
DESCRIPTION:
URL:https://stjohns.wa.edu.au/event/holy-thursday-last-day-of-term-1/
CATEGORIES:School Events,Term Dates
END:VEVENT
BEGIN:VEVENT
DTSTART;VALUE=DATE:20240322
DTEND;VALUE=DATE:20240323
DTSTAMP:20260420T031630
CREATED:20240320T125431Z
LAST-MODIFIED:20240320T125431Z
UID:817-1711065600-1711151999@stjohns.wa.edu.au
SUMMARY:Car Wash Fundraiser
DESCRIPTION:
URL:https://stjohns.wa.edu.au/event/car-wash-fundraiser/
CATEGORIES:School Events
END:VEVENT
BEGIN:VEVENT
DTSTART;TZID=Australia/Perth:20240320T093000
DTEND;TZID=Australia/Perth:20240320T103000
DTSTAMP:20260420T031630
CREATED:20240201T071006Z
LAST-MODIFIED:20240201T071006Z
UID:756-1710927000-1710930600@stjohns.wa.edu.au
SUMMARY:Sacrament of Reconciliation
DESCRIPTION:
URL:https://stjohns.wa.edu.au/event/sacrament-of-reconciliation/
CATEGORIES:Sacrament
END:VEVENT
BEGIN:VEVENT
DTSTART;VALUE=DATE:20240319
DTEND;VALUE=DATE:20240320
DTSTAMP:20260420T031630
CREATED:20240320T125409Z
LAST-MODIFIED:20240320T125409Z
UID:815-1710806400-1710892799@stjohns.wa.edu.au
SUMMARY:Book a Tour
DESCRIPTION:
URL:https://stjohns.wa.edu.au/event/book-a-tour/
CATEGORIES:School Events
END:VEVENT
BEGIN:VEVENT
DTSTART;VALUE=DATE:20240318
DTEND;VALUE=DATE:20240319
DTSTAMP:20260420T031630
CREATED:20240320T125347Z
LAST-MODIFIED:20240320T125347Z
UID:813-1710720000-1710806399@stjohns.wa.edu.au
SUMMARY:School Mass
DESCRIPTION:
URL:https://stjohns.wa.edu.au/event/school-mass/
CATEGORIES:School Events
END:VEVENT
BEGIN:VEVENT
DTSTART;VALUE=DATE:20240313
DTEND;VALUE=DATE:20240314
DTSTAMP:20260420T031630
CREATED:20240201T070846Z
LAST-MODIFIED:20240201T070846Z
UID:752-1710288000-1710374399@stjohns.wa.edu.au
SUMMARY:School Photos K- Year 6
DESCRIPTION:
URL:https://stjohns.wa.edu.au/event/school-photos-k-year-6/
CATEGORIES:School Events
END:VEVENT
BEGIN:VEVENT
DTSTART;VALUE=DATE:20240312
DTEND;VALUE=DATE:20240313
DTSTAMP:20260420T031630
CREATED:20240201T070655Z
LAST-MODIFIED:20240201T070655Z
UID:746-1710201600-1710287999@stjohns.wa.edu.au
SUMMARY:Sacrament Retreat Day Year 3
DESCRIPTION:
URL:https://stjohns.wa.edu.au/event/sacrament-retreat-day-year-3/
CATEGORIES:Sacrament
END:VEVENT
BEGIN:VEVENT
DTSTART;VALUE=DATE:20240305
DTEND;VALUE=DATE:20240309
DTSTAMP:20260420T031630
CREATED:20240201T070632Z
LAST-MODIFIED:20240201T070632Z
UID:744-1709596800-1709942399@stjohns.wa.edu.au
SUMMARY:Year 6 Camp
DESCRIPTION:
URL:https://stjohns.wa.edu.au/event/year-6-camp/
CATEGORIES:School Events
END:VEVENT
BEGIN:VEVENT
DTSTART;VALUE=DATE:20240304
DTEND;VALUE=DATE:20240305
DTSTAMP:20260420T031630
CREATED:20240201T070523Z
LAST-MODIFIED:20240201T070523Z
UID:742-1709510400-1709596799@stjohns.wa.edu.au
SUMMARY:Public Holiday
DESCRIPTION:
URL:https://stjohns.wa.edu.au/event/public-holiday/
CATEGORIES:Public Holidays
END:VEVENT
BEGIN:VEVENT
DTSTART;TZID=Australia/Perth:20240227T163000
DTEND;TZID=Australia/Perth:20240227T173000
DTSTAMP:20260420T031630
CREATED:20240201T070438Z
LAST-MODIFIED:20240201T070447Z
UID:740-1709051400-1709055000@stjohns.wa.edu.au
SUMMARY:Sacrament of Reconcilliation Parent Child Workshop Year 3
DESCRIPTION:
URL:https://stjohns.wa.edu.au/event/sacrament-of-reconcilliation-parent-child-workshop-year-3/
CATEGORIES:Sacrament,School Events
END:VEVENT
BEGIN:VEVENT
DTSTART;VALUE=DATE:20240226
DTEND;VALUE=DATE:20240227
DTSTAMP:20260420T031630
CREATED:20240201T070345Z
LAST-MODIFIED:20240201T070345Z
UID:738-1708905600-1708991999@stjohns.wa.edu.au
SUMMARY:Faction Swimming Carnival: Claremont Aquatic Centre Years 3-6
DESCRIPTION:
URL:https://stjohns.wa.edu.au/event/faction-swimming-carnival-claremont-aquatic-centre-years-3-6/
CATEGORIES:School Events
END:VEVENT
BEGIN:VEVENT
DTSTART;VALUE=DATE:20240219
DTEND;VALUE=DATE:20240224
DTSTAMP:20260420T031630
CREATED:20240201T070810Z
LAST-MODIFIED:20240201T070810Z
UID:750-1708300800-1708732799@stjohns.wa.edu.au
SUMMARY:Week 4 Years 3 - 5 Swimming
DESCRIPTION:
URL:https://stjohns.wa.edu.au/event/week-4-years-3-5-swimming/
CATEGORIES:School Events
END:VEVENT
BEGIN:VEVENT
DTSTART;VALUE=DATE:20240214
DTEND;VALUE=DATE:20240215
DTSTAMP:20260420T031630
CREATED:20240201T070253Z
LAST-MODIFIED:20240201T070253Z
UID:736-1707868800-1707955199@stjohns.wa.edu.au
SUMMARY:Ash Wednesday Mass
DESCRIPTION:
URL:https://stjohns.wa.edu.au/event/ash-wednesday-mass/
CATEGORIES:Sacrament
END:VEVENT
BEGIN:VEVENT
DTSTART;TZID=Australia/Perth:20240212T085500
DTEND;TZID=Australia/Perth:20240212T100000
DTSTAMP:20260420T031630
CREATED:20240201T070234Z
LAST-MODIFIED:20240201T070234Z
UID:734-1707728100-1707732000@stjohns.wa.edu.au
SUMMARY:Kindy & PP Parent Informatin Session
DESCRIPTION:
URL:https://stjohns.wa.edu.au/event/kindy-pp-parent-informatin-session/
CATEGORIES:School Events
END:VEVENT
BEGIN:VEVENT
DTSTART;VALUE=DATE:20240212
DTEND;VALUE=DATE:20240217
DTSTAMP:20260420T031630
CREATED:20240201T070744Z
LAST-MODIFIED:20240201T070744Z
UID:748-1707696000-1708127999@stjohns.wa.edu.au
SUMMARY:Week 3 Years 3 - 5 Swimming
DESCRIPTION:
URL:https://stjohns.wa.edu.au/event/week-3-years-3-5-swimming/
CATEGORIES:School Events
END:VEVENT
BEGIN:VEVENT
DTSTART;VALUE=DATE:20240209
DTEND;VALUE=DATE:20240210
DTSTAMP:20260420T031630
CREATED:20240201T070147Z
LAST-MODIFIED:20240201T070147Z
UID:732-1707436800-1707523199@stjohns.wa.edu.au
SUMMARY:Picnic on the Green (P&F)
DESCRIPTION:
URL:https://stjohns.wa.edu.au/event/picnic-on-the-green-pf/
CATEGORIES:School Events
END:VEVENT
BEGIN:VEVENT
DTSTART;TZID=Australia/Perth:20240207T090000
DTEND;TZID=Australia/Perth:20240207T100000
DTSTAMP:20260420T031630
CREATED:20240201T070120Z
LAST-MODIFIED:20240201T070120Z
UID:730-1707296400-1707300000@stjohns.wa.edu.au
SUMMARY:Beginning of Year Mass 1-6
DESCRIPTION:
URL:https://stjohns.wa.edu.au/event/beginning-of-year-mass-1-6/
CATEGORIES:School Events
END:VEVENT
BEGIN:VEVENT
DTSTART;TZID=Australia/Perth:20240206T163000
DTEND;TZID=Australia/Perth:20240206T180000
DTSTAMP:20260420T031630
CREATED:20240201T070033Z
LAST-MODIFIED:20240201T070033Z
UID:728-1707237000-1707242400@stjohns.wa.edu.au
SUMMARY:Year 1-6 Parent Information Session
DESCRIPTION:Principal’s Welcome – 4:30pm \nClass Information: 5:00pm \nClass Information: 5:30pm repeat session \n 
URL:https://stjohns.wa.edu.au/event/year-1-6-parent-information-session/
CATEGORIES:School Events
END:VEVENT
BEGIN:VEVENT
DTSTART;VALUE=DATE:20240201
DTEND;VALUE=DATE:20240202
DTSTAMP:20260420T031630
CREATED:20240201T065803Z
LAST-MODIFIED:20240201T065803Z
UID:726-1706745600-1706831999@stjohns.wa.edu.au
SUMMARY:PK Starts
DESCRIPTION:
URL:https://stjohns.wa.edu.au/event/pk-starts/
CATEGORIES:School Events
END:VEVENT
BEGIN:VEVENT
DTSTART;VALUE=DATE:20240131
DTEND;VALUE=DATE:20240201
DTSTAMP:20260420T031630
CREATED:20240201T065739Z
LAST-MODIFIED:20240201T065739Z
UID:724-1706659200-1706745599@stjohns.wa.edu.au
SUMMARY:Term 1 Students first day
DESCRIPTION:
URL:https://stjohns.wa.edu.au/event/term-1-students-first-day/
CATEGORIES:Term Dates
END:VEVENT
BEGIN:VEVENT
DTSTART;VALUE=DATE:20240129
DTEND;VALUE=DATE:20240131
DTSTAMP:20260420T031630
CREATED:20240201T065712Z
LAST-MODIFIED:20240201T065712Z
UID:722-1706486400-1706659199@stjohns.wa.edu.au
SUMMARY:Staff Development Day
DESCRIPTION:
URL:https://stjohns.wa.edu.au/event/staff-development-day/
CATEGORIES:Staff Development Days
END:VEVENT
END:VCALENDAR