BEGIN:VCALENDAR
VERSION:2.0
PRODID:-//St John’s School - ECPv6.15.18//NONSGML v1.0//EN
CALSCALE:GREGORIAN
METHOD:PUBLISH
X-ORIGINAL-URL:https://stjohns.wa.edu.au
X-WR-CALDESC:Events for St John’s School
REFRESH-INTERVAL;VALUE=DURATION:PT1H
X-Robots-Tag:noindex
X-PUBLISHED-TTL:PT1H
BEGIN:VTIMEZONE
TZID:Australia/Perth
BEGIN:STANDARD
TZOFFSETFROM:+0800
TZOFFSETTO:+0800
TZNAME:AWST
DTSTART:20240101T000000
END:STANDARD
END:VTIMEZONE
BEGIN:VEVENT
DTSTART;TZID=Australia/Perth:20251111T170000
DTEND;TZID=Australia/Perth:20251111T180000
DTSTAMP:20260420T142724
CREATED:20251006T042324Z
LAST-MODIFIED:20251006T042324Z
UID:1421-1762880400-1762884000@stjohns.wa.edu.au
SUMMARY:CSAC Meeting
DESCRIPTION:
URL:https://stjohns.wa.edu.au/event/csac-meeting/
CATEGORIES:Other events
END:VEVENT
BEGIN:VEVENT
DTSTART;TZID=Australia/Perth:20251111T180000
DTEND;TZID=Australia/Perth:20251111T190000
DTSTAMP:20260420T142724
CREATED:20251006T042405Z
LAST-MODIFIED:20251006T042405Z
UID:1423-1762884000-1762887600@stjohns.wa.edu.au
SUMMARY:P&F Meeting
DESCRIPTION:
URL:https://stjohns.wa.edu.au/event/pf-meeting-2/
CATEGORIES:P&F Meetings
END:VEVENT
BEGIN:VEVENT
DTSTART;VALUE=DATE:20251112
DTEND;VALUE=DATE:20251113
DTSTAMP:20260420T142724
CREATED:20251006T042524Z
LAST-MODIFIED:20251006T042524Z
UID:1425-1762905600-1762991999@stjohns.wa.edu.au
SUMMARY:Mass Sacrament Parent Briefing (Year 3\, 4 and 6 families of 2026)
DESCRIPTION:
URL:https://stjohns.wa.edu.au/event/mass-sacrament-parent-briefing-year-3-4-and-6-families-of-2026/
CATEGORIES:Sacrament
END:VEVENT
BEGIN:VEVENT
DTSTART;VALUE=DATE:20251113
DTEND;VALUE=DATE:20251114
DTSTAMP:20260420T142724
CREATED:20251006T042546Z
LAST-MODIFIED:20251006T042546Z
UID:1427-1762992000-1763078399@stjohns.wa.edu.au
SUMMARY:World Kindness Day
DESCRIPTION:
URL:https://stjohns.wa.edu.au/event/world-kindness-day/
CATEGORIES:School Events
END:VEVENT
BEGIN:VEVENT
DTSTART;TZID=Australia/Perth:20251114T153000
DTEND;TZID=Australia/Perth:20251114T163000
DTSTAMP:20260420T142724
CREATED:20251006T042625Z
LAST-MODIFIED:20251006T042625Z
UID:1429-1763134200-1763137800@stjohns.wa.edu.au
SUMMARY:Keyed Up Music Recital
DESCRIPTION:
URL:https://stjohns.wa.edu.au/event/keyed-up-music-recital/
CATEGORIES:School Events
END:VEVENT
BEGIN:VEVENT
DTSTART;VALUE=DATE:20251117
DTEND;VALUE=DATE:20251122
DTSTAMP:20260420T142724
CREATED:20251006T042704Z
LAST-MODIFIED:20251006T042704Z
UID:1431-1763337600-1763769599@stjohns.wa.edu.au
SUMMARY:Swimming Lessons PP - Yr 2
DESCRIPTION:
URL:https://stjohns.wa.edu.au/event/swimming-lessons-pp-yr-2-2/
CATEGORIES:School Events
END:VEVENT
BEGIN:VEVENT
DTSTART;TZID=Australia/Perth:20251125T170000
DTEND;TZID=Australia/Perth:20251125T190000
DTSTAMP:20260420T142724
CREATED:20251006T042802Z
LAST-MODIFIED:20251006T042802Z
UID:1433-1764090000-1764097200@stjohns.wa.edu.au
SUMMARY:Annual Community Meeting 5 pm CSCA Dinner
DESCRIPTION:
URL:https://stjohns.wa.edu.au/event/annual-community-meeting-5-pm-csca-dinner/
CATEGORIES:Other events
END:VEVENT
BEGIN:VEVENT
DTSTART;VALUE=DATE:20251127
DTEND;VALUE=DATE:20251128
DTSTAMP:20260420T142724
CREATED:20251006T042836Z
LAST-MODIFIED:20251006T042836Z
UID:1435-1764201600-1764287999@stjohns.wa.edu.au
SUMMARY:Class Assembly Year 1
DESCRIPTION:
URL:https://stjohns.wa.edu.au/event/class-assembly-year-1/
CATEGORIES:School Events
END:VEVENT
BEGIN:VEVENT
DTSTART;VALUE=DATE:20251130
DTEND;VALUE=DATE:20251201
DTSTAMP:20260420T142724
CREATED:20251006T051338Z
LAST-MODIFIED:20251006T051338Z
UID:1437-1764460800-1764547199@stjohns.wa.edu.au
SUMMARY:1st Sunday Advent
DESCRIPTION:
URL:https://stjohns.wa.edu.au/event/1st-sunday-advent/
CATEGORIES:Sacrament
END:VEVENT
BEGIN:VEVENT
DTSTART;TZID=Australia/Perth:20251202T090000
DTEND;TZID=Australia/Perth:20251202T100000
DTSTAMP:20260420T142724
CREATED:20251006T051414Z
LAST-MODIFIED:20251006T051414Z
UID:1439-1764666000-1764669600@stjohns.wa.edu.au
SUMMARY:Whole School Christmas Assembly
DESCRIPTION:
URL:https://stjohns.wa.edu.au/event/whole-school-christmas-assembly/
CATEGORIES:School Events
END:VEVENT
BEGIN:VEVENT
DTSTART;VALUE=DATE:20251204
DTEND;VALUE=DATE:20251205
DTSTAMP:20260420T142724
CREATED:20251006T051449Z
LAST-MODIFIED:20251006T051449Z
UID:1441-1764806400-1764892799@stjohns.wa.edu.au
SUMMARY:Class Assembly Pre-Primary Nativity
DESCRIPTION:
URL:https://stjohns.wa.edu.au/event/class-assembly-pre-primary-nativity/
CATEGORIES:School Events
END:VEVENT
BEGIN:VEVENT
DTSTART;VALUE=DATE:20251205
DTEND;VALUE=DATE:20251206
DTSTAMP:20260420T142724
CREATED:20251006T051515Z
LAST-MODIFIED:20251006T051515Z
UID:1443-1764892800-1764979199@stjohns.wa.edu.au
SUMMARY:Year 6 End of Year Excursion
DESCRIPTION:
URL:https://stjohns.wa.edu.au/event/year-6-end-of-year-excursion/
CATEGORIES:School Events
END:VEVENT
BEGIN:VEVENT
DTSTART;VALUE=DATE:20251207
DTEND;VALUE=DATE:20251208
DTSTAMP:20260420T142724
CREATED:20251006T051541Z
LAST-MODIFIED:20251006T051541Z
UID:1445-1765065600-1765151999@stjohns.wa.edu.au
SUMMARY:2nd Sunday Advent
DESCRIPTION:
URL:https://stjohns.wa.edu.au/event/2nd-sunday-advent/
CATEGORIES:Sacrament
END:VEVENT
BEGIN:VEVENT
DTSTART;TZID=Australia/Perth:20251208T090000
DTEND;TZID=Australia/Perth:20251208T100000
DTSTAMP:20260420T142724
CREATED:20251006T051631Z
LAST-MODIFIED:20251006T051631Z
UID:1447-1765184400-1765188000@stjohns.wa.edu.au
SUMMARY:Feast of Immaculate Conception Mass
DESCRIPTION:
URL:https://stjohns.wa.edu.au/event/feast-of-immaculate-conception-mass/
CATEGORIES:Sacrament,School Events
END:VEVENT
BEGIN:VEVENT
DTSTART;VALUE=DATE:20251209
DTEND;VALUE=DATE:20251210
DTSTAMP:20260420T142724
CREATED:20251006T051715Z
LAST-MODIFIED:20251006T051715Z
UID:1449-1765238400-1765324799@stjohns.wa.edu.au
SUMMARY:Year 6 Graduation Mass followed by Graduation class family morning tea
DESCRIPTION:
URL:https://stjohns.wa.edu.au/event/year-6-graduation-mass-followed-by-graduation-class-family-morning-tea/
CATEGORIES:Sacrament,School Events
END:VEVENT
BEGIN:VEVENT
DTSTART;VALUE=DATE:20251210
DTEND;VALUE=DATE:20251211
DTSTAMP:20260420T142724
CREATED:20251006T051808Z
LAST-MODIFIED:20251006T051808Z
UID:1451-1765324800-1765411199@stjohns.wa.edu.au
SUMMARY:Surf Gala Day - 4\, 5\, 6 (20 children)
DESCRIPTION:
URL:https://stjohns.wa.edu.au/event/surf-gala-day-4-5-6-20-children/
CATEGORIES:School Events
END:VEVENT
BEGIN:VEVENT
DTSTART;VALUE=DATE:20251211
DTEND;VALUE=DATE:20251212
DTSTAMP:20260420T142724
CREATED:20251006T051839Z
LAST-MODIFIED:20251006T051839Z
UID:1453-1765411200-1765497599@stjohns.wa.edu.au
SUMMARY:St John's Big Day In
DESCRIPTION:
URL:https://stjohns.wa.edu.au/event/st-johns-big-day-in/
CATEGORIES:School Events
END:VEVENT
BEGIN:VEVENT
DTSTART;VALUE=DATE:20251211
DTEND;VALUE=DATE:20251212
DTSTAMP:20260420T142724
CREATED:20251006T051913Z
LAST-MODIFIED:20251006T051913Z
UID:1455-1765411200-1765497599@stjohns.wa.edu.au
SUMMARY:Year 6 Graduation Dinner - Parent and Child Dinner
DESCRIPTION:
URL:https://stjohns.wa.edu.au/event/year-6-graduation-dinner-parent-and-child-dinner/
CATEGORIES:School Events
END:VEVENT
BEGIN:VEVENT
DTSTART;VALUE=DATE:20251212
DTEND;VALUE=DATE:20251213
DTSTAMP:20260420T142724
CREATED:20251006T051943Z
LAST-MODIFIED:20251006T051943Z
UID:1457-1765497600-1765583999@stjohns.wa.edu.au
SUMMARY:Last Day Students
DESCRIPTION:
URL:https://stjohns.wa.edu.au/event/last-day-students/
CATEGORIES:Term Dates
END:VEVENT
BEGIN:VEVENT
DTSTART;TZID=Australia/Perth:20251212T143000
DTEND;TZID=Australia/Perth:20251212T153000
DTSTAMP:20260420T142724
CREATED:20251006T052019Z
LAST-MODIFIED:20251006T052019Z
UID:1459-1765549800-1765553400@stjohns.wa.edu.au
SUMMARY:Year 6 Assembly
DESCRIPTION:
URL:https://stjohns.wa.edu.au/event/year-6-assembly/
CATEGORIES:School Events
END:VEVENT
BEGIN:VEVENT
DTSTART;VALUE=DATE:20251214
DTEND;VALUE=DATE:20251215
DTSTAMP:20260420T142724
CREATED:20251006T052049Z
LAST-MODIFIED:20251006T052049Z
UID:1461-1765670400-1765756799@stjohns.wa.edu.au
SUMMARY:3rd Sunday Advent
DESCRIPTION:
URL:https://stjohns.wa.edu.au/event/3rd-sunday-advent/
CATEGORIES:Sacrament
END:VEVENT
BEGIN:VEVENT
DTSTART;VALUE=DATE:20251219
DTEND;VALUE=DATE:20251220
DTSTAMP:20260420T142724
CREATED:20251006T052717Z
LAST-MODIFIED:20251006T052717Z
UID:1465-1766102400-1766188799@stjohns.wa.edu.au
SUMMARY:Last Day Staff
DESCRIPTION:
URL:https://stjohns.wa.edu.au/event/last-day-staff/
CATEGORIES:Term Dates
END:VEVENT
END:VCALENDAR