BEGIN:VCALENDAR
VERSION:2.0
PRODID:-//St John’s School - ECPv6.15.18//NONSGML v1.0//EN
CALSCALE:GREGORIAN
METHOD:PUBLISH
X-WR-CALNAME:St John’s School
X-ORIGINAL-URL:https://stjohns.wa.edu.au
X-WR-CALDESC:Events for St John’s School
REFRESH-INTERVAL;VALUE=DURATION:PT1H
X-Robots-Tag:noindex
X-PUBLISHED-TTL:PT1H
BEGIN:VTIMEZONE
TZID:Australia/Perth
BEGIN:STANDARD
TZOFFSETFROM:+0800
TZOFFSETTO:+0800
TZNAME:AWST
DTSTART:20240101T000000
END:STANDARD
END:VTIMEZONE
BEGIN:VEVENT
DTSTART;TZID=Australia/Perth:20250917T090000
DTEND;TZID=Australia/Perth:20250917T100000
DTSTAMP:20260422T022830
CREATED:20250729T083544Z
LAST-MODIFIED:20250729T083544Z
UID:1374-1758099600-1758103200@stjohns.wa.edu.au
SUMMARY:St John’s Mass 9.00am PP – Year 6
DESCRIPTION:
URL:https://stjohns.wa.edu.au/event/st-johns-mass-9-00am-pp-year-6/
CATEGORIES:Sacrament
END:VEVENT
END:VCALENDAR