BEGIN:VCALENDAR
VERSION:2.0
PRODID:-//St John’s School - ECPv6.15.18//NONSGML v1.0//EN
CALSCALE:GREGORIAN
METHOD:PUBLISH
X-WR-CALNAME:St John’s School
X-ORIGINAL-URL:https://stjohns.wa.edu.au
X-WR-CALDESC:Events for St John’s School
REFRESH-INTERVAL;VALUE=DURATION:PT1H
X-Robots-Tag:noindex
X-PUBLISHED-TTL:PT1H
BEGIN:VTIMEZONE
TZID:Australia/Perth
BEGIN:STANDARD
TZOFFSETFROM:+0800
TZOFFSETTO:+0800
TZNAME:AWST
DTSTART:20240101T000000
END:STANDARD
END:VTIMEZONE
BEGIN:VEVENT
DTSTART;VALUE=DATE:20250518
DTEND;VALUE=DATE:20250520
DTSTAMP:20260421T182953
CREATED:20250214T104710Z
LAST-MODIFIED:20250214T104710Z
UID:1203-1747526400-1747699199@stjohns.wa.edu.au
SUMMARY:Certificate Mass Reconcilliation
DESCRIPTION:
URL:https://stjohns.wa.edu.au/event/certificate-mass-reconcilliation/
CATEGORIES:Sacrament
END:VEVENT
END:VCALENDAR