BEGIN:VCALENDAR
VERSION:2.0
PRODID:-//St John’s School - ECPv6.15.18//NONSGML v1.0//EN
CALSCALE:GREGORIAN
METHOD:PUBLISH
X-ORIGINAL-URL:https://stjohns.wa.edu.au
X-WR-CALDESC:Events for St John’s School
REFRESH-INTERVAL;VALUE=DURATION:PT1H
X-Robots-Tag:noindex
X-PUBLISHED-TTL:PT1H
BEGIN:VTIMEZONE
TZID:Australia/Perth
BEGIN:STANDARD
TZOFFSETFROM:+0800
TZOFFSETTO:+0800
TZNAME:AWST
DTSTART:20230101T000000
END:STANDARD
END:VTIMEZONE
BEGIN:VEVENT
DTSTART;TZID=Australia/Perth:20240227T163000
DTEND;TZID=Australia/Perth:20240227T173000
DTSTAMP:20260421T185807
CREATED:20240201T070438Z
LAST-MODIFIED:20240201T070447Z
UID:740-1709051400-1709055000@stjohns.wa.edu.au
SUMMARY:Sacrament of Reconcilliation Parent Child Workshop Year 3
DESCRIPTION:
URL:https://stjohns.wa.edu.au/event/sacrament-of-reconcilliation-parent-child-workshop-year-3/
CATEGORIES:Sacrament,School Events
END:VEVENT
END:VCALENDAR