BEGIN:VCALENDAR
VERSION:2.0
PRODID:-//St John’s School - ECPv6.15.18//NONSGML v1.0//EN
CALSCALE:GREGORIAN
METHOD:PUBLISH
X-WR-CALNAME:St John’s School
X-ORIGINAL-URL:https://stjohns.wa.edu.au
X-WR-CALDESC:Events for St John’s School
REFRESH-INTERVAL;VALUE=DURATION:PT1H
X-Robots-Tag:noindex
X-PUBLISHED-TTL:PT1H
BEGIN:VTIMEZONE
TZID:Australia/Perth
BEGIN:STANDARD
TZOFFSETFROM:+0800
TZOFFSETTO:+0800
TZNAME:AWST
DTSTART:20230101T000000
END:STANDARD
END:VTIMEZONE
BEGIN:VEVENT
DTSTART;VALUE=DATE:20240214
DTEND;VALUE=DATE:20240215
DTSTAMP:20260421T204848
CREATED:20240201T070253Z
LAST-MODIFIED:20240201T070253Z
UID:736-1707868800-1707955199@stjohns.wa.edu.au
SUMMARY:Ash Wednesday Mass
DESCRIPTION:
URL:https://stjohns.wa.edu.au/event/ash-wednesday-mass/
CATEGORIES:Sacrament
END:VEVENT
END:VCALENDAR