BEGIN:VCALENDAR
VERSION:2.0
PRODID:-//St John’s School - ECPv6.15.18//NONSGML v1.0//EN
CALSCALE:GREGORIAN
METHOD:PUBLISH
X-ORIGINAL-URL:https://stjohns.wa.edu.au
X-WR-CALDESC:Events for St John’s School
REFRESH-INTERVAL;VALUE=DURATION:PT1H
X-Robots-Tag:noindex
X-PUBLISHED-TTL:PT1H
BEGIN:VTIMEZONE
TZID:Australia/Perth
BEGIN:STANDARD
TZOFFSETFROM:+0800
TZOFFSETTO:+0800
TZNAME:AWST
DTSTART:20240101T000000
END:STANDARD
END:VTIMEZONE
BEGIN:VEVENT
DTSTART;TZID=Australia/Perth:20250803T090000
DTEND;TZID=Australia/Perth:20250803T100000
DTSTAMP:20260421T223426
CREATED:20250729T080404Z
LAST-MODIFIED:20250729T080404Z
UID:1347-1754211600-1754215200@stjohns.wa.edu.au
SUMMARY:Year 1 Class Mass 9am
DESCRIPTION:
URL:https://stjohns.wa.edu.au/event/year-1-class-mass-9am-2/
CATEGORIES:Sacrament
END:VEVENT
BEGIN:VEVENT
DTSTART;TZID=Australia/Perth:20250806T090000
DTEND;TZID=Australia/Perth:20250806T100000
DTSTAMP:20260421T223426
CREATED:20250729T074056Z
LAST-MODIFIED:20250729T074056Z
UID:1296-1754470800-1754474400@stjohns.wa.edu.au
SUMMARY:Year 4 Class Mass 9am
DESCRIPTION:
URL:https://stjohns.wa.edu.au/event/year-4-class-mass-9am/
CATEGORIES:Sacrament
END:VEVENT
BEGIN:VEVENT
DTSTART;TZID=Australia/Perth:20250808T090000
DTEND;TZID=Australia/Perth:20250808T100000
DTSTAMP:20260421T223426
CREATED:20250729T074127Z
LAST-MODIFIED:20250729T074127Z
UID:1298-1754643600-1754647200@stjohns.wa.edu.au
SUMMARY:Feast of St Mary of the Cross MacKillop Mass at 9am
DESCRIPTION:
URL:https://stjohns.wa.edu.au/event/feast-of-st-mary-of-the-cross-mackillop-mass-at-9am/
CATEGORIES:Sacrament
END:VEVENT
BEGIN:VEVENT
DTSTART;TZID=Australia/Perth:20250809T170000
DTEND;TZID=Australia/Perth:20250809T180000
DTSTAMP:20260421T223426
CREATED:20250729T074154Z
LAST-MODIFIED:20250729T074154Z
UID:1300-1754758800-1754762400@stjohns.wa.edu.au
SUMMARY:First Eucharist Certificates 5pm Mass (Saturday 9 August)
DESCRIPTION:
URL:https://stjohns.wa.edu.au/event/first-eucharist-certificates-5pm-mass-saturday-9-august/
CATEGORIES:Sacrament
END:VEVENT
BEGIN:VEVENT
DTSTART;TZID=Australia/Perth:20250813T090000
DTEND;TZID=Australia/Perth:20250813T100000
DTSTAMP:20260421T223426
CREATED:20250729T074454Z
LAST-MODIFIED:20250729T074454Z
UID:1312-1755075600-1755079200@stjohns.wa.edu.au
SUMMARY:Year 5 Class Mass 9am
DESCRIPTION:
URL:https://stjohns.wa.edu.au/event/year-5-class-mass-9am/
CATEGORIES:Sacrament
END:VEVENT
BEGIN:VEVENT
DTSTART;TZID=Australia/Perth:20250815T090000
DTEND;TZID=Australia/Perth:20250815T100000
DTSTAMP:20260421T223426
CREATED:20250729T074554Z
LAST-MODIFIED:20250729T074554Z
UID:1316-1755248400-1755252000@stjohns.wa.edu.au
SUMMARY:Feast of Assumption Mass at 9am Whole School Mass – Holy Day of Obligation
DESCRIPTION:
URL:https://stjohns.wa.edu.au/event/feast-of-assumption-mass-at-9am-whole-school-mass-holy-day-of-obligation/
CATEGORIES:Sacrament
END:VEVENT
BEGIN:VEVENT
DTSTART;VALUE=DATE:20250819
DTEND;VALUE=DATE:20250820
DTSTAMP:20260421T223426
CREATED:20250729T074644Z
LAST-MODIFIED:20250729T074644Z
UID:1320-1755561600-1755647999@stjohns.wa.edu.au
SUMMARY:Confirmation Retreat
DESCRIPTION:
URL:https://stjohns.wa.edu.au/event/confirmation-retreat-2/
CATEGORIES:Sacrament
END:VEVENT
BEGIN:VEVENT
DTSTART;TZID=Australia/Perth:20250820T090000
DTEND;TZID=Australia/Perth:20250820T100000
DTSTAMP:20260421T223426
CREATED:20250729T074712Z
LAST-MODIFIED:20250729T074712Z
UID:1322-1755680400-1755684000@stjohns.wa.edu.au
SUMMARY:Mass Year 6 Reconciliation & Rehearsal 9am
DESCRIPTION:
URL:https://stjohns.wa.edu.au/event/mass-year-6-reconciliation-rehearsal-9am/
CATEGORIES:Sacrament
END:VEVENT
BEGIN:VEVENT
DTSTART;VALUE=DATE:20250831
DTEND;VALUE=DATE:20250901
DTSTAMP:20260421T223426
CREATED:20250729T075021Z
LAST-MODIFIED:20250729T075040Z
UID:1336-1756598400-1756684799@stjohns.wa.edu.au
SUMMARY:Confirmation 9.30am (Sunday 31 August)
DESCRIPTION:
URL:https://stjohns.wa.edu.au/event/confirmation-9-30am-sunday-31-august/
CATEGORIES:Sacrament
END:VEVENT
END:VCALENDAR