BEGIN:VCALENDAR
VERSION:2.0
PRODID:-//St John’s School - ECPv6.15.18//NONSGML v1.0//EN
CALSCALE:GREGORIAN
METHOD:PUBLISH
X-WR-CALNAME:St John’s School
X-ORIGINAL-URL:https://stjohns.wa.edu.au
X-WR-CALDESC:Events for St John’s School
REFRESH-INTERVAL;VALUE=DURATION:PT1H
X-Robots-Tag:noindex
X-PUBLISHED-TTL:PT1H
BEGIN:VTIMEZONE
TZID:Australia/Perth
BEGIN:STANDARD
TZOFFSETFROM:+0800
TZOFFSETTO:+0800
TZNAME:AWST
DTSTART:20240101T000000
END:STANDARD
END:VTIMEZONE
BEGIN:VEVENT
DTSTART;TZID=Australia/Perth:20250614T170000
DTEND;TZID=Australia/Perth:20250614T183000
DTSTAMP:20260421T183649
CREATED:20250214T105215Z
LAST-MODIFIED:20250328T074705Z
UID:1223-1749920400-1749925800@stjohns.wa.edu.au
SUMMARY:School Parish Mass
DESCRIPTION:
URL:https://stjohns.wa.edu.au/event/school-parish-mass-2/
CATEGORIES:Sacrament
END:VEVENT
BEGIN:VEVENT
DTSTART;TZID=Australia/Perth:20250629T093000
DTEND;TZID=Australia/Perth:20250629T110000
DTSTAMP:20260421T183649
CREATED:20250214T105518Z
LAST-MODIFIED:20250214T105518Z
UID:1234-1751189400-1751194800@stjohns.wa.edu.au
SUMMARY:First Eucharist
DESCRIPTION:
URL:https://stjohns.wa.edu.au/event/first-eucharist/
CATEGORIES:Sacrament
END:VEVENT
END:VCALENDAR