BEGIN:VCALENDAR
VERSION:2.0
PRODID:-//St John’s School - ECPv6.15.18//NONSGML v1.0//EN
CALSCALE:GREGORIAN
METHOD:PUBLISH
X-ORIGINAL-URL:https://stjohns.wa.edu.au
X-WR-CALDESC:Events for St John’s School
REFRESH-INTERVAL;VALUE=DURATION:PT1H
X-Robots-Tag:noindex
X-PUBLISHED-TTL:PT1H
BEGIN:VTIMEZONE
TZID:Australia/Perth
BEGIN:STANDARD
TZOFFSETFROM:+0800
TZOFFSETTO:+0800
TZNAME:AWST
DTSTART:20240101T000000
END:STANDARD
END:VTIMEZONE
BEGIN:VEVENT
DTSTART;TZID=Australia/Perth:20250604T100000
DTEND;TZID=Australia/Perth:20250604T150000
DTSTAMP:20260417T083910
CREATED:20250214T105033Z
LAST-MODIFIED:20250214T105033Z
UID:1217-1749031200-1749049200@stjohns.wa.edu.au
SUMMARY:Life Link Day
DESCRIPTION:
URL:https://stjohns.wa.edu.au/event/life-link-day/
CATEGORIES:School Events
END:VEVENT
END:VCALENDAR